BEGIN:VCALENDAR
VERSION:2.0
PRODID:-//Turnverein Langenbrand e.V. - ECPv6.0.9//NONSGML v1.0//EN
CALSCALE:GREGORIAN
METHOD:PUBLISH
X-ORIGINAL-URL:https://www.tv-langenbrand.de
X-WR-CALDESC:Veranstaltungen für Turnverein Langenbrand e.V.
REFRESH-INTERVAL;VALUE=DURATION:PT1H
X-Robots-Tag:noindex
X-PUBLISHED-TTL:PT1H
BEGIN:VTIMEZONE
TZID:Europe/Berlin
BEGIN:DAYLIGHT
TZOFFSETFROM:+0100
TZOFFSETTO:+0200
TZNAME:CEST
DTSTART:20260329T010000
END:DAYLIGHT
BEGIN:STANDARD
TZOFFSETFROM:+0200
TZOFFSETTO:+0100
TZNAME:CET
DTSTART:20261025T010000
END:STANDARD
END:VTIMEZONE
BEGIN:VEVENT
DTSTART;TZID=Europe/Berlin:20260327T190000
DTEND;TZID=Europe/Berlin:20260327T220000
DTSTAMP:20260423T134613
CREATED:20260222T160742Z
LAST-MODIFIED:20260222T160742Z
UID:8791-1774638000-1774648800@www.tv-langenbrand.de
SUMMARY:Jahreshauptversammlung
DESCRIPTION:Weitere Informationen sind noch nicht bekannt und werden ergänzt sobald verfügbar.
URL:https://www.tv-langenbrand.de/veranstaltung/jahreshauptversammlung-2026/
LOCATION:Landgasthof Zum Ochsen\, Langenbrander Str. 7\, Forbach\, Baden-Württemberg\, 76596\, Deutschland
CATEGORIES:Allgemein
ORGANIZER;CN="Turnverein%20Langenbrand":MAILTO:kontakt@tv-langenbrand.de
END:VEVENT
END:VCALENDAR