BEGIN:VCALENDAR
VERSION:2.0
PRODID:-//Turnverein Langenbrand e.V. - ECPv6.0.9//NONSGML v1.0//EN
CALSCALE:GREGORIAN
METHOD:PUBLISH
X-ORIGINAL-URL:https://www.tv-langenbrand.de
X-WR-CALDESC:Veranstaltungen für Turnverein Langenbrand e.V.
REFRESH-INTERVAL;VALUE=DURATION:PT1H
X-Robots-Tag:noindex
X-PUBLISHED-TTL:PT1H
BEGIN:VTIMEZONE
TZID:Europe/Berlin
BEGIN:DAYLIGHT
TZOFFSETFROM:+0100
TZOFFSETTO:+0200
TZNAME:CEST
DTSTART:20250330T010000
END:DAYLIGHT
BEGIN:STANDARD
TZOFFSETFROM:+0200
TZOFFSETTO:+0100
TZNAME:CET
DTSTART:20251026T010000
END:STANDARD
END:VTIMEZONE
BEGIN:VEVENT
DTSTART;VALUE=DATE:20251231
DTEND;VALUE=DATE:20260101
DTSTAMP:20260423T180259
CREATED:20250314T171740Z
LAST-MODIFIED:20250314T171740Z
UID:8578-1767139200-1767225599@www.tv-langenbrand.de
SUMMARY:Silvesterwerfen in Langenbrand
DESCRIPTION:Der TV Langenbrand lädt herzlich zum Silvesterwerfen in Langenbrand am 31. Dezember 2025 ein.
URL:https://www.tv-langenbrand.de/veranstaltung/silvesterwerfen-langenbrand-2025/
LOCATION:Sportplatz Langenbrand\, Bahnhofstraße 6\, 76596 Forbach\, Baden-Württemberg\, 76596\, Deutschland
CATEGORIES:Rasenkraftsport
END:VEVENT
END:VCALENDAR