BEGIN:VCALENDAR
VERSION:2.0
PRODID:-//Turnverein Langenbrand e.V. - ECPv6.0.9//NONSGML v1.0//EN
CALSCALE:GREGORIAN
METHOD:PUBLISH
X-ORIGINAL-URL:https://www.tv-langenbrand.de
X-WR-CALDESC:Veranstaltungen für Turnverein Langenbrand e.V.
REFRESH-INTERVAL;VALUE=DURATION:PT1H
X-Robots-Tag:noindex
X-PUBLISHED-TTL:PT1H
BEGIN:VTIMEZONE
TZID:Europe/Berlin
BEGIN:DAYLIGHT
TZOFFSETFROM:+0100
TZOFFSETTO:+0200
TZNAME:CEST
DTSTART:20250330T010000
END:DAYLIGHT
BEGIN:STANDARD
TZOFFSETFROM:+0200
TZOFFSETTO:+0100
TZNAME:CET
DTSTART:20251026T010000
END:STANDARD
END:VTIMEZONE
BEGIN:VEVENT
DTSTART;TZID=Europe/Berlin:20250301T181100
DTEND;TZID=Europe/Berlin:20250301T235900
DTSTAMP:20260424T073034
CREATED:20241012T121130Z
LAST-MODIFIED:20241229T163944Z
UID:8417-1740852660-1740873540@www.tv-langenbrand.de
SUMMARY:2. Fasentsitzung 2025
DESCRIPTION:Alle weiteren Informationen sind auf unserer Event-Seite verfügbar: \nZum Fasent Fahrplan 2025 und Kartenbestellung
URL:https://www.tv-langenbrand.de/veranstaltung/2-fasentsitzung-2025/
LOCATION:Festhalle Langenbrand\, Sägmühlstraße\, Forbach\, Baden-Württemberg\, 76596\, Deutschland
CATEGORIES:Fasent
ORGANIZER;CN="Turnverein%20Langenbrand":MAILTO:kontakt@tv-langenbrand.de
END:VEVENT
BEGIN:VEVENT
DTSTART;TZID=Europe/Berlin:20250321T180000
DTEND;TZID=Europe/Berlin:20250321T220000
DTSTAMP:20260424T073034
CREATED:20241012T120140Z
LAST-MODIFIED:20250314T170750Z
UID:8407-1742580000-1742594400@www.tv-langenbrand.de
SUMMARY:Jahreshauptversammlung
DESCRIPTION:Eine herzliche Einladung zu unserer diesjährigen Jahreshauptversammlung im Ochsen in Langenbrand. \nProgrammpunkte: \n\nBegrüßung\nTotengedenken\nBericht des Vorstandsteams\nGeschäftsbericht der Schriftführerin\nKassenbericht Kassier\nBericht der Kassenprüfer mit Entlastung des Kassier\nBerichte der Übungsleiter\nGrußwort der Gemeinde und Entlastung der Vorstandschaft\nNeuwahlen\nSatzungsneufassung\nVerschiedenes\, Terminvorschau 2025\nSchlussworte und Überleitung zur Bilderschau
URL:https://www.tv-langenbrand.de/veranstaltung/jahreshauptversammlung-2025/
LOCATION:Landgasthof Zum Ochsen\, Langenbrander Str. 7\, Forbach\, Baden-Württemberg\, 76596\, Deutschland
CATEGORIES:Allgemein
ORGANIZER;CN="Turnverein%20Langenbrand":MAILTO:kontakt@tv-langenbrand.de
END:VEVENT
BEGIN:VEVENT
DTSTART;TZID=Europe/Berlin:20250329T073000
DTEND;TZID=Europe/Berlin:20250329T190000
DTSTAMP:20260424T073034
CREATED:20250314T171318Z
LAST-MODIFIED:20250314T171543Z
UID:8576-1743233400-1743274800@www.tv-langenbrand.de
SUMMARY:Internationale Deutsche Winterwurfmeisterschaften Rasenkraftsport
DESCRIPTION:Der TV Langenbrand darf lädt zu den Internationalen Deutschen Winterwurfmeisterschaften im Rasenkraftsport – Gewichtwurf (Alle Altersklassen) am 29.03.2025 in Langenbrand ein. \nDie Ausschreibung und den Zeitplan gibt es hier: \nAusschreibung DRTV
URL:https://www.tv-langenbrand.de/veranstaltung/internationale-deutsche-winterwurfmeisterschaften-rasenkraftsport-2025/
LOCATION:Sportplatz Langenbrand\, Bahnhofstraße 6\, 76596 Forbach\, Baden-Württemberg\, 76596\, Deutschland
CATEGORIES:Rasenkraftsport
END:VEVENT
END:VCALENDAR