BEGIN:VCALENDAR
VERSION:2.0
PRODID:-//Turnverein Langenbrand e.V. - ECPv6.0.9//NONSGML v1.0//EN
CALSCALE:GREGORIAN
METHOD:PUBLISH
X-ORIGINAL-URL:https://www.tv-langenbrand.de
X-WR-CALDESC:Veranstaltungen für Turnverein Langenbrand e.V.
REFRESH-INTERVAL;VALUE=DURATION:PT1H
X-Robots-Tag:noindex
X-PUBLISHED-TTL:PT1H
BEGIN:VTIMEZONE
TZID:Europe/Berlin
BEGIN:DAYLIGHT
TZOFFSETFROM:+0100
TZOFFSETTO:+0200
TZNAME:CEST
DTSTART:20230326T010000
END:DAYLIGHT
BEGIN:STANDARD
TZOFFSETFROM:+0200
TZOFFSETTO:+0100
TZNAME:CET
DTSTART:20231029T010000
END:STANDARD
END:VTIMEZONE
BEGIN:VEVENT
DTSTART;VALUE=DATE:20231231
DTEND;VALUE=DATE:20240101
DTSTAMP:20260425T061730
CREATED:20230116T182308Z
LAST-MODIFIED:20230116T182308Z
UID:7782-1703980800-1704067199@www.tv-langenbrand.de
SUMMARY:Silvesterwerfen in Langenbrand
DESCRIPTION:Weitere Informationen sind noch nicht bekannt und werden ergänzt sobald verfügbar.
URL:https://www.tv-langenbrand.de/veranstaltung/silvesterwerfen-in-langenbrand-2023/
LOCATION:Sportplatz Langenbrand\, Bahnhofstraße 6\, 76596 Forbach\, Baden-Württemberg\, 76596\, Deutschland
CATEGORIES:Rasenkraftsport
END:VEVENT
END:VCALENDAR