BEGIN:VCALENDAR
VERSION:2.0
PRODID:-//Turnverein Langenbrand e.V. - ECPv6.0.9//NONSGML v1.0//EN
CALSCALE:GREGORIAN
METHOD:PUBLISH
X-ORIGINAL-URL:https://www.tv-langenbrand.de
X-WR-CALDESC:Veranstaltungen für Turnverein Langenbrand e.V.
REFRESH-INTERVAL;VALUE=DURATION:PT1H
X-Robots-Tag:noindex
X-PUBLISHED-TTL:PT1H
BEGIN:VTIMEZONE
TZID:Europe/Berlin
BEGIN:DAYLIGHT
TZOFFSETFROM:+0100
TZOFFSETTO:+0200
TZNAME:CEST
DTSTART:20230326T010000
END:DAYLIGHT
BEGIN:STANDARD
TZOFFSETFROM:+0200
TZOFFSETTO:+0100
TZNAME:CET
DTSTART:20231029T010000
END:STANDARD
END:VTIMEZONE
BEGIN:VEVENT
DTSTART;VALUE=DATE:20230610
DTEND;VALUE=DATE:20230612
DTSTAMP:20260425T152812
CREATED:20230116T181914Z
LAST-MODIFIED:20230514T104447Z
UID:7779-1686355200-1686527999@www.tv-langenbrand.de
SUMMARY:Deutsche Meisterschaften Rasenkraftsport und Bundesliga
DESCRIPTION:Weitere Informationen gibt es auf der offiziellen Webseite des RTV: \nAusschreibung zu den Deutschen Rasenkraftsport Meisterschaften M/F und Bundesliga
URL:https://www.tv-langenbrand.de/veranstaltung/deutsche-meisterschaften-rasenkraftsport-und-bundesliga-2023/
LOCATION:Sportplatz Langenbrand\, Bahnhofstraße 6\, 76596 Forbach\, Baden-Württemberg\, 76596\, Deutschland
CATEGORIES:Rasenkraftsport
END:VEVENT
BEGIN:VEVENT
DTSTART;TZID=Europe/Berlin:20230617T110000
DTEND;TZID=Europe/Berlin:20230617T190000
DTSTAMP:20260425T152812
CREATED:20230116T181652Z
LAST-MODIFIED:20230514T104140Z
UID:7777-1686999600-1687028400@www.tv-langenbrand.de
SUMMARY:Beachvolleyball-Turnier
DESCRIPTION:Auch dieses Jahr geht es wieder heiß her am 17. Juni 2023 beim Beachvolleyball-Turnier des TV Langenbrand. \nIhr möchtet auch dabei sein? Kein Problem! Meldet euer Team einfach per Mail an unter kontakt@tv-langenbrand.de – unser Orgateam kümmert sich um alles. \nFlyer zum TVL Beachvolleyball-Turnier 2023
URL:https://www.tv-langenbrand.de/veranstaltung/beachvolleyball-turnier-2023/
LOCATION:Sportplatz Langenbrand\, Bahnhofstraße 6\, 76596 Forbach\, Baden-Württemberg\, 76596\, Deutschland
CATEGORIES:Allgemein
ORGANIZER;CN="Turnverein%20Langenbrand":MAILTO:kontakt@tv-langenbrand.de
END:VEVENT
BEGIN:VEVENT
DTSTART;TZID=Europe/Berlin:20230618T091500
DTEND;TZID=Europe/Berlin:20230618T150000
DTSTAMP:20260425T152812
CREATED:20230116T181507Z
LAST-MODIFIED:20230609T221927Z
UID:7775-1687079700-1687100400@www.tv-langenbrand.de
SUMMARY:51. Volksleichtathletiktag
DESCRIPTION:Der  TV Langenbrand freut sich auch dieses Jahr wieder alle Athletinnen und Athleten beim 51. Volksleichtathletiktag auf dem Sportplatz in Langenbrand begrüßen zu dürfen. \nDer Volksleichtathletiktag am 18. Juni 2023 auf dem Sportplatz Langenbrand
URL:https://www.tv-langenbrand.de/veranstaltung/volksleichtathletiktag-2023/
LOCATION:Sportplatz Langenbrand\, Bahnhofstraße 6\, 76596 Forbach\, Baden-Württemberg\, 76596\, Deutschland
CATEGORIES:Leichtathletik
ORGANIZER;CN="Turnverein%20Langenbrand":MAILTO:kontakt@tv-langenbrand.de
END:VEVENT
END:VCALENDAR