BEGIN:VCALENDAR
VERSION:2.0
PRODID:-//Turnverein Langenbrand e.V. - ECPv6.0.9//NONSGML v1.0//EN
CALSCALE:GREGORIAN
METHOD:PUBLISH
X-ORIGINAL-URL:https://www.tv-langenbrand.de
X-WR-CALDESC:Veranstaltungen für Turnverein Langenbrand e.V.
REFRESH-INTERVAL;VALUE=DURATION:PT1H
X-Robots-Tag:noindex
X-PUBLISHED-TTL:PT1H
BEGIN:VTIMEZONE
TZID:Europe/Berlin
BEGIN:DAYLIGHT
TZOFFSETFROM:+0100
TZOFFSETTO:+0200
TZNAME:CEST
DTSTART:20260329T010000
END:DAYLIGHT
BEGIN:STANDARD
TZOFFSETFROM:+0200
TZOFFSETTO:+0100
TZNAME:CET
DTSTART:20261025T010000
END:STANDARD
END:VTIMEZONE
BEGIN:VEVENT
DTSTART;TZID=Europe/Berlin:20260214T181100
DTEND;TZID=Europe/Berlin:20260214T235900
DTSTAMP:20260423T164958
CREATED:20251217T201911Z
LAST-MODIFIED:20251217T201911Z
UID:8682-1771092660-1771113540@www.tv-langenbrand.de
SUMMARY:2. Fasentsitzung 2026
DESCRIPTION:Alle weiteren Informationen sind auf unserer Event-Seite verfügbar: \nZum Fasent Fahrplan 2026 und Kartenbestellung
URL:https://www.tv-langenbrand.de/veranstaltung/2-fasentsitzung-2026/
LOCATION:Festhalle Langenbrand\, Sägmühlstraße\, Forbach\, Baden-Württemberg\, 76596\, Deutschland
CATEGORIES:Fasent
ORGANIZER;CN="Turnverein%20Langenbrand":MAILTO:kontakt@tv-langenbrand.de
END:VEVENT
END:VCALENDAR