BEGIN:VCALENDAR
VERSION:2.0
PRODID:-//Turnverein Langenbrand e.V. - ECPv6.0.9//NONSGML v1.0//EN
CALSCALE:GREGORIAN
METHOD:PUBLISH
X-WR-CALNAME:Turnverein Langenbrand e.V.
X-ORIGINAL-URL:https://www.tv-langenbrand.de
X-WR-CALDESC:Veranstaltungen für Turnverein Langenbrand e.V.
REFRESH-INTERVAL;VALUE=DURATION:PT1H
X-Robots-Tag:noindex
X-PUBLISHED-TTL:PT1H
BEGIN:VTIMEZONE
TZID:Europe/Berlin
BEGIN:DAYLIGHT
TZOFFSETFROM:+0100
TZOFFSETTO:+0200
TZNAME:CEST
DTSTART:20250330T010000
END:DAYLIGHT
BEGIN:STANDARD
TZOFFSETFROM:+0200
TZOFFSETTO:+0100
TZNAME:CET
DTSTART:20251026T010000
END:STANDARD
END:VTIMEZONE
BEGIN:VEVENT
DTSTART;TZID=Europe/Berlin:20251018T083000
DTEND;TZID=Europe/Berlin:20251018T140000
DTSTAMP:20260423T221840
CREATED:20250801T191107Z
LAST-MODIFIED:20250805T165440Z
UID:8646-1760776200-1760796000@www.tv-langenbrand.de
SUMMARY:Tanz wie Du bist - by Schweppy!
DESCRIPTION:Wir freuen uns riesig\, dass wir für unser diesjähriges Event-Highlight Markus Schweppe ‚Schweppy‘ mit seinem Dancefitness-Programm ‚Tanz wie Du bist‘ gewinnen konnten und möchten Euch herzlich dazu in unserer DanceHall einladen! \n‚Schweppy‘ ist der Entwickler des Dancefitness Workouts 4STREATZ®. Er zählt zu den angesagtesten und beliebtesten Dance & Fitness Experten in Europa. Dank der Erfahrung aus 20 Jahren in der Fitness- und Tanzbranche\, konnte er die positiven Aspekte zahlreicher Groupfitness-Konzepte zu einem bahnbrechend effektiven Tanz-Fitness-Training vereinen: 4STREATZ®! \nDer sympathische Deutsch-Brasilianer schafft es immer wieder\, die Menschen mit seiner großen Leidenschaft auf eine einzigartige und einmalige Tanzreise mitzunehmen. \nEgal ob Freestyle\, Modern Dance oder Aerobic\, Anfänger oder Fortgeschrittene bei unserem Event ist für jedes Tanzbein was dabei! \nEs finden insgesamt 3 Kurse statt: 4Streatz\, 80’s Aerobic und 4Streatz für Jugendliche (ab 12 Jahren). \nLos geht’s am 18.10.2025 ab 8:30 Uhr mit dem Einlass\, Begrüßung und einer Aufwärmung\, gefolgt von den Kursen. \nAnmeldung/Kontaktadresse via E-Mail an: event@tv-langenbrand.de (solange Plätze frei sind/Anmeldeschluss: 30.09.2025) \nAblauf: \n\n8:30 Uhr – Einlass\n9:00 Uhr – Begrüßung\n9:15 Uhr – Aufwärmen\n9:30-10:30 Uhr – 1. Kurs „4STREATZ®“\n10:45-11:45 Uhr – 2. Kurs „80’s Aerobic“\n12:00-13:00 Uhr – 3. Kurs „4STREATZ®“\n\nInfos: \n\nBetreten der Halle nur mit Halenschuhen\nUmkleide vorhanden\, keine Duschmöglichkeit\nKaltgetränke\, Kaffe vor Ort\n\nMelde dich direkt an\, Teilnehmerzahl begrenzt!
URL:https://www.tv-langenbrand.de/veranstaltung/tanz-wie-du-bist-by-schweppy-2025/
LOCATION:Festhalle Langenbrand\, Sägmühlstraße\, Forbach\, Baden-Württemberg\, 76596\, Deutschland
CATEGORIES:Allgemein
ORGANIZER;CN="Turnverein%20Langenbrand":MAILTO:kontakt@tv-langenbrand.de
END:VEVENT
END:VCALENDAR