BEGIN:VCALENDAR
VERSION:2.0
PRODID:-//Turnverein Langenbrand e.V. - ECPv6.0.9//NONSGML v1.0//EN
CALSCALE:GREGORIAN
METHOD:PUBLISH
X-WR-CALNAME:Turnverein Langenbrand e.V.
X-ORIGINAL-URL:https://www.tv-langenbrand.de
X-WR-CALDESC:Veranstaltungen für Turnverein Langenbrand e.V.
REFRESH-INTERVAL;VALUE=DURATION:PT1H
X-Robots-Tag:noindex
X-PUBLISHED-TTL:PT1H
BEGIN:VTIMEZONE
TZID:Europe/Berlin
BEGIN:DAYLIGHT
TZOFFSETFROM:+0100
TZOFFSETTO:+0200
TZNAME:CEST
DTSTART:20250330T010000
END:DAYLIGHT
BEGIN:STANDARD
TZOFFSETFROM:+0200
TZOFFSETTO:+0100
TZNAME:CET
DTSTART:20251026T010000
END:STANDARD
END:VTIMEZONE
BEGIN:VEVENT
DTSTART;TZID=Europe/Berlin:20250321T180000
DTEND;TZID=Europe/Berlin:20250321T220000
DTSTAMP:20260424T084554
CREATED:20241012T120140Z
LAST-MODIFIED:20250314T170750Z
UID:8407-1742580000-1742594400@www.tv-langenbrand.de
SUMMARY:Jahreshauptversammlung
DESCRIPTION:Eine herzliche Einladung zu unserer diesjährigen Jahreshauptversammlung im Ochsen in Langenbrand. \nProgrammpunkte: \n\nBegrüßung\nTotengedenken\nBericht des Vorstandsteams\nGeschäftsbericht der Schriftführerin\nKassenbericht Kassier\nBericht der Kassenprüfer mit Entlastung des Kassier\nBerichte der Übungsleiter\nGrußwort der Gemeinde und Entlastung der Vorstandschaft\nNeuwahlen\nSatzungsneufassung\nVerschiedenes\, Terminvorschau 2025\nSchlussworte und Überleitung zur Bilderschau
URL:https://www.tv-langenbrand.de/veranstaltung/jahreshauptversammlung-2025/
LOCATION:Landgasthof Zum Ochsen\, Langenbrander Str. 7\, Forbach\, Baden-Württemberg\, 76596\, Deutschland
CATEGORIES:Allgemein
ORGANIZER;CN="Turnverein%20Langenbrand":MAILTO:kontakt@tv-langenbrand.de
END:VEVENT
END:VCALENDAR