BEGIN:VCALENDAR
VERSION:2.0
PRODID:-//Turnverein Langenbrand e.V. - ECPv6.0.9//NONSGML v1.0//EN
CALSCALE:GREGORIAN
METHOD:PUBLISH
X-ORIGINAL-URL:https://www.tv-langenbrand.de
X-WR-CALDESC:Veranstaltungen für Turnverein Langenbrand e.V.
REFRESH-INTERVAL;VALUE=DURATION:PT1H
X-Robots-Tag:noindex
X-PUBLISHED-TTL:PT1H
BEGIN:VTIMEZONE
TZID:Europe/Berlin
BEGIN:DAYLIGHT
TZOFFSETFROM:+0100
TZOFFSETTO:+0200
TZNAME:CEST
DTSTART:20240331T010000
END:DAYLIGHT
BEGIN:STANDARD
TZOFFSETFROM:+0200
TZOFFSETTO:+0100
TZNAME:CET
DTSTART:20241027T010000
END:STANDARD
END:VTIMEZONE
BEGIN:VEVENT
DTSTART;VALUE=DATE:20241129
DTEND;VALUE=DATE:20241202
DTSTAMP:20260424T134723
CREATED:20240707T191925Z
LAST-MODIFIED:20240707T191925Z
UID:8382-1732838400-1733097599@www.tv-langenbrand.de
SUMMARY:Hüttenwochenende
DESCRIPTION:Der TV Langenbrand veranstaltet für seine Mitglieder dieses Jahr ein Hüttenwochenende. \nDer Ablauf sieht grob wie folgt aus: \n\nFreitag ab 16:30 Uhr: Kennenlernen und gemütlicher Abend\nSamstag = Familientag: Frühstück\, Wanderung\, Spiel + Spaß\nSonntag: Frühstück\, Abreise\n\nAlles weitere wird später bekannt gegeben\, bei Interesse bitte an Übungsleiter & Co. wenden.
URL:https://www.tv-langenbrand.de/veranstaltung/huettenwochenende-2024/
LOCATION:Ferienhaus Schöne Aussicht\, Kapellenstraße 14\, Forbach\, Baden-Württemberg\, 76596\, Deutschland
CATEGORIES:Allgemein
ORGANIZER;CN="Turnverein%20Langenbrand":MAILTO:kontakt@tv-langenbrand.de
END:VEVENT
END:VCALENDAR