BEGIN:VCALENDAR
VERSION:2.0
PRODID:-//Turnverein Langenbrand e.V. - ECPv6.0.9//NONSGML v1.0//EN
CALSCALE:GREGORIAN
METHOD:PUBLISH
X-ORIGINAL-URL:https://www.tv-langenbrand.de
X-WR-CALDESC:Veranstaltungen für Turnverein Langenbrand e.V.
REFRESH-INTERVAL;VALUE=DURATION:PT1H
X-Robots-Tag:noindex
X-PUBLISHED-TTL:PT1H
BEGIN:VTIMEZONE
TZID:Europe/Berlin
BEGIN:DAYLIGHT
TZOFFSETFROM:+0100
TZOFFSETTO:+0200
TZNAME:CEST
DTSTART:20240331T010000
END:DAYLIGHT
BEGIN:STANDARD
TZOFFSETFROM:+0200
TZOFFSETTO:+0100
TZNAME:CET
DTSTART:20241027T010000
END:STANDARD
END:VTIMEZONE
BEGIN:VEVENT
DTSTART;TZID=Europe/Berlin:20240203T171100
DTEND;TZID=Europe/Berlin:20240203T235900
DTSTAMP:20260425T045143
CREATED:20231117T235227Z
LAST-MODIFIED:20231231T134919Z
UID:8135-1706980260-1707004740@www.tv-langenbrand.de
SUMMARY:1. Fasentsitzung 2024
DESCRIPTION:Die 5. Jahreszeit naht. Bald heißt es wieder „Narri Narro – die Fasent isch do!“ Egal ob Musik\, Showtänze oder Comedy – der Turnverein Langenbrand bietet von allem eine bunte Mischung auf Spitzenniveau. \nHier geht's zu den Veranstaltungsdetails und der Karten-Bestellung \nEuer Turnverein Langenbrand
URL:https://www.tv-langenbrand.de/veranstaltung/1-fasentsitzung-2024/
LOCATION:Festhalle Langenbrand\, Sägmühlstraße\, Forbach\, Baden-Württemberg\, 76596\, Deutschland
CATEGORIES:Fasent
ORGANIZER;CN="Turnverein%20Langenbrand":MAILTO:kontakt@tv-langenbrand.de
END:VEVENT
END:VCALENDAR